BEGIN:VCALENDAR
VERSION:2.0
PRODID:-//wp-events-plugin.com//7.2.3.1//EN
TZID:America/New_York
X-WR-TIMEZONE:America/New_York
BEGIN:VEVENT
UID:357@corvettesofhh.com
DTSTART;TZID=America/New_York:20260516T080000
DTEND;TZID=America/New_York:20260516T110000
DTSTAMP:20260115T210605Z
URL:https://corvettesofhh.com/events/uscb-cars-coffee-bluffton-sc-1-univer
 sity-blvd-parking-lots-8-11-2026-01-17-2026-02-21-2026-03-21-2026-04-18-20
 26-05-16/
SUMMARY:USCB Cars & Coffee\, Bluffton\, SC\, 1 University Blvd.\, parking l
 ots 8-11
DESCRIPTION:
CATEGORIES:Event,Get-Together
END:VEVENT
BEGIN:VTIMEZONE
TZID:America/New_York
X-LIC-LOCATION:America/New_York
BEGIN:DAYLIGHT
DTSTART:20260308T030000
TZOFFSETFROM:-0500
TZOFFSETTO:-0400
TZNAME:EDT
END:DAYLIGHT
END:VTIMEZONE
END:VCALENDAR