BEGIN:VCALENDAR
VERSION:2.0
PRODID:-//wp-events-plugin.com//7.2.3.1//EN
TZID:America/New_York
X-WR-TIMEZONE:America/New_York
BEGIN:VEVENT
UID:274@corvettesofhh.com
DTSTART;TZID=America/New_York:20270807T090000
DTEND;TZID=America/New_York:20270807T103000
DTSTAMP:20260113T223811Z
URL:https://corvettesofhh.com/events/sun-city-car-club-hosts-cars-and-coff
 ee-dunkin-donuts-on-170-2026-09-05-2026-10-03-2026-11-07-2026-12-05-2027-0
 1-02-2027-02-06-2027-03-06-2027-04-03-2027-05-01-2027-06-05-2027-07-03-202
 7-08-07/
SUMMARY:Sun City Car Club hosts Cars and Coffee Dunkin Donuts on 170
DESCRIPTION:
CATEGORIES:Cruise,Get-Together
END:VEVENT
BEGIN:VTIMEZONE
TZID:America/New_York
X-LIC-LOCATION:America/New_York
BEGIN:DAYLIGHT
DTSTART:20270314T030000
TZOFFSETFROM:-0500
TZOFFSETTO:-0400
TZNAME:EDT
END:DAYLIGHT
END:VTIMEZONE
END:VCALENDAR