BEGIN:VCALENDAR
VERSION:2.0
PRODID:-//wp-events-plugin.com//7.2.3.1//EN
TZID:America/New_York
X-WR-TIMEZONE:America/New_York
BEGIN:VEVENT
UID:136@corvettesofhh.com
DTSTART;TZID=America/New_York:20260801T090000
DTEND;TZID=America/New_York:20260801T103000
DTSTAMP:20260113T223811Z
URL:https://corvettesofhh.com/events/sun-city-car-club-hosts-cars-and-coff
 ee-dunkin-donuts-on-170-2026-08-01/
SUMMARY:Sun City Car Club hosts Cars and Coffee Dunkin Donuts on 170
DESCRIPTION:
CATEGORIES:Cruise,Get-Together
END:VEVENT
BEGIN:VTIMEZONE
TZID:America/New_York
X-LIC-LOCATION:America/New_York
BEGIN:DAYLIGHT
DTSTART:20260308T030000
TZOFFSETFROM:-0500
TZOFFSETTO:-0400
TZNAME:EDT
END:DAYLIGHT
END:VTIMEZONE
END:VCALENDAR