BEGIN:VCALENDAR
VERSION:2.0
PRODID:-//wp-events-plugin.com//7.2.3.1//EN
TZID:America/New_York
X-WR-TIMEZONE:America/New_York
BEGIN:VEVENT
UID:337@corvettesofhh.com
DTSTART;TZID=America/New_York:20260711T090000
DTEND;TZID=America/New_York:20260711T110000
DTSTAMP:20260114T003836Z
URL:https://corvettesofhh.com/events/palm-trees-pistons-nalas-beach-14-fol
 ly-field-rd-hilton-head-island-sc-2026-02-14-2026-03-14-2026-04-11-2026-05
 -09-2026-06-13-2026-07-11/
SUMMARY:Palm Trees & Pistons\, Nala's Beach\, 14 Folly Field Rd.\, Hilton H
 ead Island\, SC
DESCRIPTION:
CATEGORIES:Event,Get-Together
END:VEVENT
BEGIN:VTIMEZONE
TZID:America/New_York
X-LIC-LOCATION:America/New_York
BEGIN:DAYLIGHT
DTSTART:20260308T030000
TZOFFSETFROM:-0500
TZOFFSETTO:-0400
TZNAME:EDT
END:DAYLIGHT
END:VTIMEZONE
END:VCALENDAR