BEGIN:VCALENDAR
VERSION:2.0
PRODID:-//wp-events-plugin.com//7.2.3.1//EN
TZID:America/New_York
X-WR-TIMEZONE:America/New_York
BEGIN:VEVENT
UID:344@corvettesofhh.com
DTSTART;TZID=America/New_York:20270213T090000
DTEND;TZID=America/New_York:20270213T110000
DTSTAMP:20260114T003836Z
URL:https://corvettesofhh.com/events/palm-trees-pistons-nalas-beach-14-fol
 ly-field-rd-hilton-head-island-sc-2026-02-14-2026-03-14-2026-04-11-2026-05
 -09-2026-06-13-2026-07-11-2026-08-08-2026-09-12-2026-10-10-2026-11-14-2026
 -09-2027-02-13/
SUMMARY:Palm Trees & Pistons\, Nala's Beach\, 14 Folly Field Rd.\, Hilton H
 ead Island\, SC
DESCRIPTION:
CATEGORIES:Event,Get-Together
END:VEVENT
BEGIN:VTIMEZONE
TZID:America/New_York
X-LIC-LOCATION:America/New_York
BEGIN:STANDARD
DTSTART:20261101T010000
TZOFFSETFROM:-0400
TZOFFSETTO:-0500
TZNAME:EST
END:STANDARD
END:VTIMEZONE
END:VCALENDAR