BEGIN:VCALENDAR
VERSION:2.0
PRODID:-//wp-events-plugin.com//7.2.3.1//EN
TZID:America/New_York
X-WR-TIMEZONE:America/New_York
BEGIN:VEVENT
UID:84@corvettesofhh.com
DTSTART;TZID=America/New_York:20260513T173000
DTEND;TZID=America/New_York:20260513T193000
DTSTAMP:20260323T234617Z
URL:https://corvettesofhh.com/events/monthly-business-meeting-cantaritos-m
 exican-restaurant-okatie-by-sun-city-food-lion-2026-05-13/
SUMMARY:CANCELLED-Monthly Bus. Mtg.
DESCRIPTION:The May monthly meeting is CANCELLED\, due to the Henricks Priv
 ate Museum Cruise on May 12\, 13 and 14.
CATEGORIES:Meetings
END:VEVENT
BEGIN:VTIMEZONE
TZID:America/New_York
X-LIC-LOCATION:America/New_York
BEGIN:DAYLIGHT
DTSTART:20260308T030000
TZOFFSETFROM:-0500
TZOFFSETTO:-0400
TZNAME:EDT
END:DAYLIGHT
END:VTIMEZONE
END:VCALENDAR