BEGIN:VCALENDAR
VERSION:2.0
PRODID:-//wp-events-plugin.com//7.2.3.1//EN
TZID:America/New_York
X-WR-TIMEZONE:America/New_York
BEGIN:VEVENT
UID:249@corvettesofhh.com
DTSTART;TZID=America/New_York:20260511T000000
DTEND;TZID=America/New_York:20260513T000000
DTSTAMP:20260305T200320Z
URL:https://corvettesofhh.com/events/cruise-to-hendrick-museum-may-1112-13
 -2026/
SUMMARY:Cruise to Hendrick Museum\, May 12 &13\, 2026
DESCRIPTION:2-3 Night Trip to Charlotte area to tour the Hendrick Private C
 ar Museum on May\, 13th.  Dinner on May 12\, at Carolina Ale House\, 8695
  Concord Mills Blvd.\, Concord\, NC for dinner as a group.  May 13th priv
 ate tour of the museum.  Hotel arrangements TBD.\n\nMore information will
  follow\, regarding itinerary\, hotel\, etc.
CATEGORIES:Cruise
END:VEVENT
BEGIN:VTIMEZONE
TZID:America/New_York
X-LIC-LOCATION:America/New_York
BEGIN:DAYLIGHT
DTSTART:20260308T030000
TZOFFSETFROM:-0500
TZOFFSETTO:-0400
TZNAME:EDT
END:DAYLIGHT
END:VTIMEZONE
END:VCALENDAR