BEGIN:VCALENDAR
VERSION:2.0
PRODID:-//wp-events-plugin.com//7.2.3.1//EN
TZID:America/New_York
X-WR-TIMEZONE:America/New_York
BEGIN:VEVENT
UID:254@corvettesofhh.com
DTSTART;TZID=America/New_York:20260704T083000
DTEND;TZID=America/New_York:20260704T110000
DTSTAMP:20260113T223544Z
URL:https://corvettesofhh.com/events/cars-cigars-local-legend-brewing-co-1
 014-wm-hilton-pkwy-hilton-head-island-sc-2026-04-04-2026-05-02-2026-06-06-
 2026-07-04/
SUMMARY:Cars & Cigars\, Local Legend Brewing Co.\, 1014 Wm. Hilton Pkwy.\, 
 Hilton Head Island\, SC
DESCRIPTION:
CATEGORIES:Cruise,Event,Get-Together
END:VEVENT
BEGIN:VTIMEZONE
TZID:America/New_York
X-LIC-LOCATION:America/New_York
BEGIN:DAYLIGHT
DTSTART:20260308T030000
TZOFFSETFROM:-0500
TZOFFSETTO:-0400
TZNAME:EDT
END:DAYLIGHT
END:VTIMEZONE
END:VCALENDAR