BEGIN:VCALENDAR
VERSION:2.0
PRODID:-//wp-events-plugin.com//7.2.3.1//EN
TZID:America/New_York
X-WR-TIMEZONE:America/New_York
BEGIN:VEVENT
UID:260@corvettesofhh.com
DTSTART;TZID=America/New_York:20270102T083000
DTEND;TZID=America/New_York:20270102T110000
DTSTAMP:20260113T223544Z
URL:https://corvettesofhh.com/events/cars-cigars-local-legend-brewing-co-1
 014-wm-hilton-pkwy-hilton-head-island-sc-2026-04-04-2026-05-02-2026-06-06-
 2026-07-04-2026-08-01-2026-09-05-2026-10-03-2026-11-07-2026-12-05-2027-01-
 02/
SUMMARY:Cars & Cigars\, Local Legend Brewing Co.\, 1014 Wm. Hilton Pkwy.\, 
 Hilton Head Island\, SC
DESCRIPTION:
CATEGORIES:Cruise,Event,Get-Together
END:VEVENT
BEGIN:VTIMEZONE
TZID:America/New_York
X-LIC-LOCATION:America/New_York
BEGIN:STANDARD
DTSTART:20261101T010000
TZOFFSETFROM:-0400
TZOFFSETTO:-0500
TZNAME:EST
END:STANDARD
END:VTIMEZONE
END:VCALENDAR