BEGIN:VCALENDAR
VERSION:2.0
PRODID:-//wp-events-plugin.com//7.2.3.1//EN
TZID:America/New_York
X-WR-TIMEZONE:America/New_York
BEGIN:VEVENT
UID:302@corvettesofhh.com
DTSTART;TZID=America/New_York:20261226T090000
DTEND;TZID=America/New_York:20261226T120000
DTSTAMP:20260312T185341Z
URL:https://corvettesofhh.com/events/carolina-dreamers-cruise-in-hidden-eg
 g-66-young-clyde-ct-okatie-sc-2026-12-26/
SUMMARY:Carolina Dreamers Cruise In\, Hidden Egg\, 66 Young Clyde Ct.\, Oka
 tie\, SC
DESCRIPTION:
CATEGORIES:Cruise
END:VEVENT
BEGIN:VTIMEZONE
TZID:America/New_York
X-LIC-LOCATION:America/New_York
BEGIN:STANDARD
DTSTART:20261101T010000
TZOFFSETFROM:-0400
TZOFFSETTO:-0500
TZNAME:EST
END:STANDARD
END:VTIMEZONE
END:VCALENDAR