BEGIN:VCALENDAR
VERSION:2.0
PRODID:-//wp-events-plugin.com//7.2.3.1//EN
TZID:America/New_York
X-WR-TIMEZONE:America/New_York
BEGIN:VEVENT
UID:377@corvettesofhh.com
DTSTART;TZID=America/New_York:20260530T090000
DTEND;TZID=America/New_York:20260530T120000
DTSTAMP:20260312T185341Z
URL:https://corvettesofhh.com/events/carolina-dreamers-cruise-in-hidden-eg
 g-66-young-clyde-ct-okatie-sc-2026-01-31-2026-05-30/
SUMMARY:Carolina Dreamers Cruise In\, Hidden Egg\, 66 Young Clyde Ct.\, Oka
 tie\, SC
DESCRIPTION:
CATEGORIES:Cruise
END:VEVENT
BEGIN:VTIMEZONE
TZID:America/New_York
X-LIC-LOCATION:America/New_York
BEGIN:DAYLIGHT
DTSTART:20260308T030000
TZOFFSETFROM:-0500
TZOFFSETTO:-0400
TZNAME:EDT
END:DAYLIGHT
END:VTIMEZONE
END:VCALENDAR