BEGIN:VCALENDAR
VERSION:2.0
PRODID:-//wp-events-plugin.com//7.2.3.1//EN
TZID:America/New_York
X-WR-TIMEZONE:America/New_York
BEGIN:VEVENT
UID:322@corvettesofhh.com
DTSTART;TZID=America/New_York:20261212T080000
DTEND;TZID=America/New_York:20261212T120000
DTSTAMP:20260114T003149Z
URL:https://corvettesofhh.com/events/auto-island-cars-coffee-3095-soperton
 -drive-204-bluffton-sc-2026-02-14-2026-03-14-2026-04-11-2026-05-09-2026-06
 -13-2026-07-11-2026-08-08-2026-09-12-2026-10-10-2026-11-14-2026-12-12/
SUMMARY:Auto Island Cars & Coffee\, 3095 Soperton Drive #204\, Bluffton\, S
 C
DESCRIPTION:
CATEGORIES:Cruise,Event,Get-Together
END:VEVENT
BEGIN:VTIMEZONE
TZID:America/New_York
X-LIC-LOCATION:America/New_York
BEGIN:STANDARD
DTSTART:20261101T010000
TZOFFSETFROM:-0400
TZOFFSETTO:-0500
TZNAME:EST
END:STANDARD
END:VTIMEZONE
END:VCALENDAR